BEGIN:VCALENDAR
VERSION:2.0
PRODID:-//ChamberMaster//Event Calendar 2.0//EN
METHOD:PUBLISH
X-PUBLISHED-TTL:P3D
REFRESH-INTERVAL:P3D
CALSCALE:GREGORIAN
BEGIN:VEVENT
DTSTART:20260511T153000Z
DTEND:20260512T000000Z
X-MICROSOFT-CDO-ALLDAYEVENT:FALSE
SUMMARY:30th Annual Little Bogey's Golf Classic Fundraiser
DESCRIPTION:All proceeds from SAL Community Services' annual Little Bogey's Golf Classic will be reinvested in children\, families\, and individuals through SAL's high-quality early care and education programs serving over 1\,070 children each year. Golfers can join us for $125 each/$500 for a team and Sponsorships start at just $300. Email lgantt@salcommunityservices.org for more information!
X-ALT-DESC;FMTTYPE=text/html:All proceeds from SAL Community Services&#39\; annual Little Bogey&#39\;s Golf Classic will be reinvested in children\, families\, and individuals through SAL&#39\;s high-quality early care and education programs serving over 1\,070 children each year. Golfers can join us for $125 each/$500 for a team and Sponsorships start at just $300. Email lgantt@salcommunityservices.org for more information!&nbsp\;
LOCATION:Pinnacle Country Club - 11928 Knoxville Rd - Milan\, IL 61264
UID:e.2314.3296
SEQUENCE:3
DTSTAMP:20260421T085803Z
URL:https://members.gqchcc.com/events/details/30th-annual-little-bogey-s-golf-classic-fundraiser-3296
END:VEVENT

END:VCALENDAR
